View In:
ArcGIS JavaScript
ArcGIS Online Map Viewer
ArcGIS Earth
ArcMap
ArcGIS Pro
View Footprint In:
ArcGIS Online Map Viewer
Service Description: 2024 cached aerial imagery for Brazos County, TX. The aerial and web map are in NAD83 State Plane Texas FIPS 4203.
Map Name: 2024_Cached_Aerials_NAD83_
Legend
All Layers and Tables
Dynamic Legend
Dynamic All Layers
Layers:
Description: 2021 cached aerial imagery for Brazos County, TX.The aerial and web map are in NAD83 State Plane Texas FIPS 4203.Originally for use in the TrakIt application
Copyright Text:
Spatial Reference:
102739
(2277)
Single Fused Map Cache: true
Tile Info:
- Height: 256
- Width: 256
- DPI: 96
-
Levels of Detail: 24
-
Level ID: 0
[ Start Tile, End Tile ]
- Resolution: 992981.6887768427
- Scale: 1.1439171933053093E9
-
Level ID: 1
[ Start Tile, End Tile ]
- Resolution: 496490.84438842133
- Scale: 5.719585966526546E8
-
Level ID: 2
[ Start Tile, End Tile ]
- Resolution: 248245.42219421067
- Scale: 2.859792983263273E8
-
Level ID: 3
[ Start Tile, End Tile ]
- Resolution: 124122.71109710533
- Scale: 1.4298964916316366E8
-
Level ID: 4
[ Start Tile, End Tile ]
- Resolution: 62061.35554855267
- Scale: 7.149482458158183E7
-
Level ID: 5
[ Start Tile, End Tile ]
- Resolution: 31030.677774276333
- Scale: 3.5747412290790915E7
-
Level ID: 6
[ Start Tile, End Tile ]
- Resolution: 15515.338887138167
- Scale: 1.7873706145395458E7
-
Level ID: 7
[ Start Tile, End Tile ]
- Resolution: 7757.669443569083
- Scale: 8936853.072697729
-
Level ID: 8
[ Start Tile, End Tile ]
- Resolution: 3878.8347217845417
- Scale: 4468426.536348864
-
Level ID: 9
[ Start Tile, End Tile ]
- Resolution: 1939.4173608922708
- Scale: 2234213.268174432
-
Level ID: 10
[ Start Tile, End Tile ]
- Resolution: 969.7086804461354
- Scale: 1117106.634087216
-
Level ID: 11
[ Start Tile, End Tile ]
- Resolution: 484.8543402230677
- Scale: 558553.317043608
-
Level ID: 12
[ Start Tile, End Tile ]
- Resolution: 242.42717011153385
- Scale: 279276.658521804
-
Level ID: 13
[ Start Tile, End Tile ]
- Resolution: 121.21358505576693
- Scale: 139638.329260902
-
Level ID: 14
[ Start Tile, End Tile ]
- Resolution: 60.606792527883464
- Scale: 69819.164630451
-
Level ID: 15
[ Start Tile, End Tile ]
- Resolution: 30.303396263941732
- Scale: 34909.5823152255
-
Level ID: 16
[ Start Tile, End Tile ]
- Resolution: 15.151698131970866
- Scale: 17454.79115761275
-
Level ID: 17
[ Start Tile, End Tile ]
- Resolution: 7.575849065985433
- Scale: 8727.395578806376
-
Level ID: 18
[ Start Tile, End Tile ]
- Resolution: 3.7879245329927165
- Scale: 4363.697789403188
-
Level ID: 19
[ Start Tile, End Tile ]
- Resolution: 1.8939622664963582
- Scale: 2181.848894701594
-
Level ID: 20
[ Start Tile, End Tile ]
- Resolution: 0.9469811332481791
- Scale: 1090.924447350797
-
Level ID: 21
[ Start Tile, End Tile ]
- Resolution: 0.47349056662408956
- Scale: 545.4622236753985
-
Level ID: 22
[ Start Tile, End Tile ]
- Resolution: 0.23674528331204478
- Scale: 272.73111183769925
-
Level ID: 23
[ Start Tile, End Tile ]
- Resolution: 0.11837264165602239
- Scale: 136.36555591884962
- Format: Mixed
- Compression Quality: 75.0
- Origin: X: -1.2480507283010253E8
Y: 1.1173513948980975E8
- Spatial Reference: 102739
(2277)
Storage Info:
- Storage Format: esriMapCacheStorageModeCompactV2
- Packet Size: 128
Initial Extent:
XMin: 3243226.7218836425
YMin: 1.0061295135050263E7
XMax: 3790281.084139359
YMax: 1.0423298078638613E7
Spatial Reference: 102739
(2277)
Full Extent:
XMin: 3469752.0182291567
YMin: 1.0106184058159778E7
XMax: 3638711.95312499
YMax: 1.0343784188368112E7
Spatial Reference: 102739
(2277)
Units: esriFeet
Supported Image Format Types: PNG32,PNG24,PNG,JPG,DIB,TIFF,EMF,PS,PDF,GIF,SVG,SVGZ,BMP
Document Info:
Title: 2021_Cached_Aerials_NAD83
Author:
Comments: 2021 cached aerial imagery for Brazos County, TX.The aerial and web map are in NAD83 State Plane Texas FIPS 4203.Originally for use in the TrakIt application
Subject: 2021 cached aerial imagery for Brazos County, TX.
The aerial and web map are in NAD83 State Plane Texas FIPS 4203.
Category:
Keywords: CSTX,Brazos,Texas,aerial
AntialiasingMode: None
TextAntialiasingMode: Force
Supports Dynamic Layers: true
Resampling: false
MaxRecordCount: 2000
MaxImageHeight: 4096
MaxImageWidth: 4096
Supported Query Formats: JSON, geoJSON, PBF
Supports Query Data Elements: true
Min Scale: 558553.317043608
Max Scale: 272.73111183769925
Supports Datum Transformation: true
Child Resources:
Info
Dynamic Layer
Supported Operations:
Export Map
Identify
QueryLegends
QueryDomains
Find
Return Updates