{
 "currentVersion": 10.91,
 "cimVersion": "2.9.0",
 "serviceDescription": "2024 cached aerial imagery for Brazos County, TX. The aerial and web map are in NAD83 State Plane Texas FIPS 4203.",
 "mapName": "2024_Cached_Aerials_NAD83_",
 "description": "2021 cached aerial imagery for Brazos County, TX.The aerial and web map are in NAD83 State Plane Texas FIPS 4203.Originally for use in the TrakIt application",
 "copyrightText": "",
 "supportsDynamicLayers": true,
 "layers": [],
 "tables": [],
 "spatialReference": {
  "wkid": 102739,
  "latestWkid": 2277,
  "xyTolerance": 0.003280833333333333,
  "zTolerance": 0.001,
  "mTolerance": 0.001,
  "falseX": -124805500,
  "falseY": -81923100,
  "xyUnits": 3048.0060960121928,
  "falseZ": -100000,
  "zUnits": 10000,
  "falseM": -100000,
  "mUnits": 10000
 },
 "singleFusedMapCache": true,
 "tileInfo": {
  "rows": 256,
  "cols": 256,
  "dpi": 96,
  "format": "Mixed",
  "compressionQuality": 75,
  "origin": {
   "x": -1.2480507283010253E8,
   "y": 1.1173513948980975E8
  },
  "spatialReference": {
   "wkid": 102739,
   "latestWkid": 2277,
   "xyTolerance": 0.003280833333333333,
   "zTolerance": 0.001,
   "mTolerance": 0.001,
   "falseX": -124805500,
   "falseY": -81923100,
   "xyUnits": 3048.0060960121928,
   "falseZ": -100000,
   "zUnits": 10000,
   "falseM": -100000,
   "mUnits": 10000
  },
  "lods": [
   {
    "level": 0,
    "resolution": 992981.6887768427,
    "scale": 1.1439171933053093E9
   },
   {
    "level": 1,
    "resolution": 496490.84438842133,
    "scale": 5.719585966526546E8
   },
   {
    "level": 2,
    "resolution": 248245.42219421067,
    "scale": 2.859792983263273E8
   },
   {
    "level": 3,
    "resolution": 124122.71109710533,
    "scale": 1.4298964916316366E8
   },
   {
    "level": 4,
    "resolution": 62061.35554855267,
    "scale": 7.149482458158183E7
   },
   {
    "level": 5,
    "resolution": 31030.677774276333,
    "scale": 3.5747412290790915E7
   },
   {
    "level": 6,
    "resolution": 15515.338887138167,
    "scale": 1.7873706145395458E7
   },
   {
    "level": 7,
    "resolution": 7757.669443569083,
    "scale": 8936853.072697729
   },
   {
    "level": 8,
    "resolution": 3878.8347217845417,
    "scale": 4468426.536348864
   },
   {
    "level": 9,
    "resolution": 1939.4173608922708,
    "scale": 2234213.268174432
   },
   {
    "level": 10,
    "resolution": 969.7086804461354,
    "scale": 1117106.634087216
   },
   {
    "level": 11,
    "resolution": 484.8543402230677,
    "scale": 558553.317043608
   },
   {
    "level": 12,
    "resolution": 242.42717011153385,
    "scale": 279276.658521804
   },
   {
    "level": 13,
    "resolution": 121.21358505576693,
    "scale": 139638.329260902
   },
   {
    "level": 14,
    "resolution": 60.606792527883464,
    "scale": 69819.164630451
   },
   {
    "level": 15,
    "resolution": 30.303396263941732,
    "scale": 34909.5823152255
   },
   {
    "level": 16,
    "resolution": 15.151698131970866,
    "scale": 17454.79115761275
   },
   {
    "level": 17,
    "resolution": 7.575849065985433,
    "scale": 8727.395578806376
   },
   {
    "level": 18,
    "resolution": 3.7879245329927165,
    "scale": 4363.697789403188
   },
   {
    "level": 19,
    "resolution": 1.8939622664963582,
    "scale": 2181.848894701594
   },
   {
    "level": 20,
    "resolution": 0.9469811332481791,
    "scale": 1090.924447350797
   },
   {
    "level": 21,
    "resolution": 0.47349056662408956,
    "scale": 545.4622236753985
   },
   {
    "level": 22,
    "resolution": 0.23674528331204478,
    "scale": 272.73111183769925
   },
   {
    "level": 23,
    "resolution": 0.11837264165602239,
    "scale": 136.36555591884962
   }
  ]
 },
 "storageInfo": {
  "storageFormat": "esriMapCacheStorageModeCompactV2",
  "packetSize": 128
 },
 "initialExtent": {
  "xmin": 3243226.7218836425,
  "ymin": 1.0061295135050263E7,
  "xmax": 3790281.084139359,
  "ymax": 1.0423298078638613E7,
  "spatialReference": {
   "wkid": 102739,
   "latestWkid": 2277,
   "xyTolerance": 0.003280833333333333,
   "zTolerance": 0.001,
   "mTolerance": 0.001,
   "falseX": -124805500,
   "falseY": -81923100,
   "xyUnits": 3048.0060960121928,
   "falseZ": -100000,
   "zUnits": 10000,
   "falseM": -100000,
   "mUnits": 10000
  }
 },
 "fullExtent": {
  "xmin": 3469752.0182291567,
  "ymin": 1.0106184058159778E7,
  "xmax": 3638711.95312499,
  "ymax": 1.0343784188368112E7,
  "spatialReference": {
   "wkid": 102739,
   "latestWkid": 2277,
   "xyTolerance": 0.003280833333333333,
   "zTolerance": 0.001,
   "mTolerance": 0.001,
   "falseX": -124805500,
   "falseY": -81923100,
   "xyUnits": 3048.0060960121928,
   "falseZ": -100000,
   "zUnits": 10000,
   "falseM": -100000,
   "mUnits": 10000
  }
 },
 "datesInUnknownTimezone": false,
 "minScale": 558553.317043608,
 "maxScale": 272.73111183769925,
 "units": "esriFeet",
 "supportedImageFormatTypes": "PNG32,PNG24,PNG,JPG,DIB,TIFF,EMF,PS,PDF,GIF,SVG,SVGZ,BMP",
 "documentInfo": {
  "Title": "2021_Cached_Aerials_NAD83",
  "Author": "",
  "Comments": "2021 cached aerial imagery for Brazos County, TX.The aerial and web map are in NAD83 State Plane Texas FIPS 4203.Originally for use in the TrakIt application",
  "Subject": "2021 cached aerial imagery for Brazos County, TX.\nThe aerial and web map are in NAD83 State Plane Texas FIPS 4203.",
  "Category": "",
  "AntialiasingMode": "None",
  "TextAntialiasingMode": "Force",
  "Version": "2.9.0",
  "Keywords": "CSTX,Brazos,Texas,aerial"
 },
 "supportsQueryDomains": true,
 "capabilities": "Map,Query,Data",
 "supportedQueryFormats": "JSON, geoJSON, PBF",
 "exportTilesAllowed": false,
 "referenceScale": 0.0,
 "datumTransformations": [
  {
   "geoTransforms": [
    {
     "wkid": 108363,
     "latestWkid": 108363,
     "transformForward": false,
     "name": "WGS_1984_(ITRF08)_To_NAD_1983_2011"
    },
    {
     "wkid": 108190,
     "latestWkid": 108190,
     "transformForward": true,
     "name": "WGS_1984_(ITRF00)_To_NAD_1983"
    }
   ]
  },
  {
   "geoTransforms": [
    {
     "wkid": 108190,
     "latestWkid": 108190,
     "transformForward": false,
     "name": "WGS_1984_(ITRF00)_To_NAD_1983"
    },
    {
     "wkid": 108363,
     "latestWkid": 108363,
     "transformForward": true,
     "name": "WGS_1984_(ITRF08)_To_NAD_1983_2011"
    }
   ]
  },
  {
   "geoTransforms": [
    {
     "wkid": 108190,
     "latestWkid": 108190,
     "transformForward": true,
     "name": "WGS_1984_(ITRF00)_To_NAD_1983"
    }
   ]
  },
  {
   "geoTransforms": [
    {
     "wkid": 108190,
     "latestWkid": 108190,
     "transformForward": false,
     "name": "WGS_1984_(ITRF00)_To_NAD_1983"
    }
   ]
  }
 ],
 "supportsDatumTransformation": true,
 "archivingInfo": {
  "supportsHistoricMoment": false
 },
 "supportsClipping": true,
 "supportsSpatialFilter": true,
 "supportsTimeRelation": true,
 "supportsQueryDataElements": true,
 "maxRecordCount": 2000,
 "maxImageHeight": 4096,
 "maxImageWidth": 4096,
 "supportedExtensions": "",
 "resampling": false
}
