View In:
ArcGIS JavaScript
ArcGIS Online Map Viewer
ArcGIS Earth
ArcMap
ArcGIS Pro
View Footprint In:
ArcGIS Online Map Viewer
Service Description:
Map Name: ITS_TrakIt_Imagery_2021
Legend
All Layers and Tables
Dynamic Legend
Dynamic All Layers
Layers:
Description:
Copyright Text: City of College Station
Spatial Reference:
102739
(2277)
Single Fused Map Cache: true
Tile Info:
- Height: 256
- Width: 256
- DPI: 96
-
Levels of Detail: 22
-
Level ID: 0
[ Start Tile, End Tile ]
- Resolution: 992981.6887768427
- Scale: 1.1439171933053093E9
-
Level ID: 1
[ Start Tile, End Tile ]
- Resolution: 496490.84438842133
- Scale: 5.719585966526546E8
-
Level ID: 2
[ Start Tile, End Tile ]
- Resolution: 248245.42219421067
- Scale: 2.859792983263273E8
-
Level ID: 3
[ Start Tile, End Tile ]
- Resolution: 124122.71109710533
- Scale: 1.4298964916316366E8
-
Level ID: 4
[ Start Tile, End Tile ]
- Resolution: 62061.35554855267
- Scale: 7.149482458158183E7
-
Level ID: 5
[ Start Tile, End Tile ]
- Resolution: 31030.677774276333
- Scale: 3.5747412290790915E7
-
Level ID: 6
[ Start Tile, End Tile ]
- Resolution: 15515.338887138167
- Scale: 1.7873706145395458E7
-
Level ID: 7
[ Start Tile, End Tile ]
- Resolution: 7757.669443569083
- Scale: 8936853.072697729
-
Level ID: 8
[ Start Tile, End Tile ]
- Resolution: 3878.8347217845417
- Scale: 4468426.536348864
-
Level ID: 9
[ Start Tile, End Tile ]
- Resolution: 1939.4173608922708
- Scale: 2234213.268174432
-
Level ID: 10
[ Start Tile, End Tile ]
- Resolution: 969.7086804461354
- Scale: 1117106.634087216
-
Level ID: 11
[ Start Tile, End Tile ]
- Resolution: 484.8543402230677
- Scale: 558553.317043608
-
Level ID: 12
[ Start Tile, End Tile ]
- Resolution: 242.42717011153385
- Scale: 279276.658521804
-
Level ID: 13
[ Start Tile, End Tile ]
- Resolution: 121.21358505576693
- Scale: 139638.329260902
-
Level ID: 14
[ Start Tile, End Tile ]
- Resolution: 60.606792527883464
- Scale: 69819.164630451
-
Level ID: 15
[ Start Tile, End Tile ]
- Resolution: 30.303396263941732
- Scale: 34909.5823152255
-
Level ID: 16
[ Start Tile, End Tile ]
- Resolution: 15.151698131970866
- Scale: 17454.79115761275
-
Level ID: 17
[ Start Tile, End Tile ]
- Resolution: 7.575849065985433
- Scale: 8727.395578806376
-
Level ID: 18
[ Start Tile, End Tile ]
- Resolution: 3.7879245329927165
- Scale: 4363.697789403188
-
Level ID: 19
[ Start Tile, End Tile ]
- Resolution: 1.8939660544284669
- Scale: 2181.848894701594
-
Level ID: 20
[ Start Tile, End Tile ]
- Resolution: 0.9469830272142334
- Scale: 1090.924447350797
-
Level ID: 21
[ Start Tile, End Tile ]
- Resolution: 0.4734915136071167
- Scale: 545.4622236753985
- Format: PNG
- Compression Quality: 0.0
- Origin: X: -1.2480507283010253E8
Y: 1.1173513948980975E8
- Spatial Reference: 102739
(2277)
Storage Info:
- Storage Format: esriMapCacheStorageModeCompactV2
- Packet Size: 128
Initial Extent:
XMin: 3382703.6518839966
YMin: 1.0095410125E7
XMax: 3711527.3481160034
YMax: 1.0357625375E7
Spatial Reference: 102739
(2277)
Full Extent:
XMin: 3438790
YMin: 10107329
XMax: 3655441
YMax: 1.03457065E7
Spatial Reference: 102739
(2277)
Units: esriFeet
Supported Image Format Types: PNG32,PNG24,PNG,JPG,DIB,TIFF,EMF,PS,PDF,GIF,SVG,SVGZ,BMP
Document Info:
Title: ITS_TrakIt_Imagery_2021
Author:
Comments:
Subject: Imagery used as basemap for Central Square TrakIt. Imagery is tiled.
Category:
Keywords: Central Square,CRW,Sunguard,TrakIt,imagery,aerial,tiles
AntialiasingMode: None
TextAntialiasingMode: Force
Supports Dynamic Layers: true
MaxRecordCount: 2000
MaxImageHeight: 4096
MaxImageWidth: 4096
Supported Query Formats: JSON, geoJSON, PBF
Supports Query Data Elements: true
Min Scale: 2234213.268174432
Max Scale: 545.4622236753985
Min LOD: 9
Max LOD: 21
Supports Datum Transformation: true
Child Resources:
Info
Dynamic Layer
Supported Operations:
Export Map
QueryLegends
Return Updates