View In:
ArcGIS JavaScript
ArcGIS Online Map Viewer
ArcGIS Earth
ArcMap
ArcGIS Pro
View Footprint In:
ArcGIS Online Map Viewer
Service Description: 2021 cached aerial imagery for Brazos County, TX.Aerial projection is NAD83 State Plane but the dataframe is WGS84 Web Mercator.
Map Name: 2021_Cached_Aerials_WGS84
Legend
All Layers and Tables
Dynamic Legend
Dynamic All Layers
Layers:
Description: 2021 cached aerial imagery for Brazos County, TX.
Aerial projection is State Plane but the map is Web Mercator.
Copyright Text:
Spatial Reference:
102100
(3857)
Single Fused Map Cache: true
Tile Info:
- Height: 256
- Width: 256
- DPI: 96
-
Levels of Detail: 24
-
Level ID: 1
[ Start Tile, End Tile ]
- Resolution: 78271.5169639999
- Scale: 2.95828763795777E8
-
Level ID: 2
[ Start Tile, End Tile ]
- Resolution: 39135.7584820001
- Scale: 1.47914381897889E8
-
Level ID: 3
[ Start Tile, End Tile ]
- Resolution: 19567.8792409999
- Scale: 7.3957190948944E7
-
Level ID: 4
[ Start Tile, End Tile ]
- Resolution: 9783.93962049996
- Scale: 3.6978595474472E7
-
Level ID: 5
[ Start Tile, End Tile ]
- Resolution: 4891.96981024998
- Scale: 1.8489297737236E7
- Format: Mixed
- Compression Quality: 75.0
- Origin: X: -2.0037508342787E7
Y: 2.0037508342787E7
- Spatial Reference: 102100
(3857)
Storage Info:
- Storage Format: esriMapCacheStorageModeCompactV2
- Packet Size: 128
Initial Extent:
XMin: -1.0764965848417727E7
YMin: 3554806.179679626
XMax: -1.0699018837319514E7
YMax: 3616422.809511106
Spatial Reference: 102100
Full Extent:
XMin: -1.0765899917796874E7
YMin: 3545066.918709427
XMax: -1.0686222202244556E7
YMax: 3632590.540629143
Spatial Reference: 102100
Units: esriMeters
Supported Image Format Types: PNG32,PNG24,PNG,JPG,DIB,TIFF,EMF,PS,PDF,GIF,SVG,SVGZ,BMP
Document Info:
Title: 2021_Cached_Aerials_WGS84
Author:
Comments: <DIV STYLE="text-align:Left;"><DIV><DIV><DIV STYLE="font-size:12pt"><P><SPAN>2021 cached aerial imagery for Brazos County, TX.</SPAN></P><P><SPAN>Aerial projection is State Plane but the map is Web Mercator.</SPAN></P></DIV></DIV></DIV></DIV>
Subject: 2021 cached aerial imagery for Brazos County, TX
Category:
Keywords: CSTX,Brazos,Texas,aerial
AntialiasingMode: None
TextAntialiasingMode: Force
Supports Dynamic Layers: true
Resampling: false
MaxRecordCount: 2000
MaxImageHeight: 4096
MaxImageWidth: 4096
Supported Query Formats: JSON, geoJSON, PBF
Supports Query Data Elements: true
Min Scale: 36111.909643
Max Scale: 282.124294
Min LOD: 14
Max LOD: 21
Supports Datum Transformation: true
Child Resources:
Info
Dynamic Layer
Supported Operations:
Export Map
Identify
QueryLegends
QueryDomains
Find
Return Updates