{
 "currentVersion": 10.91,
 "cimVersion": "2.9.0",
 "serviceDescription": "",
 "mapName": "2025_Aerials_NAD83_from_SIDs",
 "description": "",
 "copyrightText": "",
 "supportsDynamicLayers": true,
 "layers": [
  {
   "id": 0,
   "name": "36123E101061N.sid",
   "parentLayerId": -1,
   "defaultVisibility": true,
   "subLayerIds": null,
   "minScale": 0,
   "maxScale": 0,
   "type": "Raster Layer",
   "supportsDynamicLegends": true
  },
  {
   "id": 1,
   "name": "35885E101457N.sid",
   "parentLayerId": -1,
   "defaultVisibility": true,
   "subLayerIds": null,
   "minScale": 0,
   "maxScale": 0,
   "type": "Raster Layer",
   "supportsDynamicLegends": true
  },
  {
   "id": 2,
   "name": "35674E101457N.sid",
   "parentLayerId": -1,
   "defaultVisibility": true,
   "subLayerIds": null,
   "minScale": 0,
   "maxScale": 0,
   "type": "Raster Layer",
   "supportsDynamicLegends": true
  },
  {
   "id": 3,
   "name": "35621E102408N.sid",
   "parentLayerId": -1,
   "defaultVisibility": true,
   "subLayerIds": null,
   "minScale": 0,
   "maxScale": 0,
   "type": "Raster Layer",
   "supportsDynamicLegends": true
  },
  {
   "id": 4,
   "name": "35621E102012N.sid",
   "parentLayerId": -1,
   "defaultVisibility": true,
   "subLayerIds": null,
   "minScale": 0,
   "maxScale": 0,
   "type": "Raster Layer",
   "supportsDynamicLegends": true
  },
  {
   "id": 5,
   "name": "35331E103015N.sid",
   "parentLayerId": -1,
   "defaultVisibility": true,
   "subLayerIds": null,
   "minScale": 0,
   "maxScale": 0,
   "type": "Raster Layer",
   "supportsDynamicLegends": true
  },
  {
   "id": 6,
   "name": "35331E101774N.sid",
   "parentLayerId": -1,
   "defaultVisibility": true,
   "subLayerIds": null,
   "minScale": 0,
   "maxScale": 0,
   "type": "Raster Layer",
   "supportsDynamicLegends": true
  },
  {
   "id": 7,
   "name": "35251E102804N.sid",
   "parentLayerId": -1,
   "defaultVisibility": true,
   "subLayerIds": null,
   "minScale": 0,
   "maxScale": 0,
   "type": "Raster Layer",
   "supportsDynamicLegends": true
  },
  {
   "id": 8,
   "name": "35172E102408N.sid",
   "parentLayerId": -1,
   "defaultVisibility": true,
   "subLayerIds": null,
   "minScale": 0,
   "maxScale": 0,
   "type": "Raster Layer",
   "supportsDynamicLegends": true
  },
  {
   "id": 9,
   "name": "35172E102012N.sid",
   "parentLayerId": -1,
   "defaultVisibility": true,
   "subLayerIds": null,
   "minScale": 0,
   "maxScale": 0,
   "type": "Raster Layer",
   "supportsDynamicLegends": true
  },
  {
   "id": 10,
   "name": "35119E102012N.sid",
   "parentLayerId": -1,
   "defaultVisibility": true,
   "subLayerIds": null,
   "minScale": 0,
   "maxScale": 0,
   "type": "Raster Layer",
   "supportsDynamicLegends": true
  }
 ],
 "tables": [],
 "spatialReference": {
  "wkid": 102739,
  "latestWkid": 2277,
  "xyTolerance": 0.003280833333333333,
  "zTolerance": 0.001,
  "mTolerance": 0.001,
  "falseX": -124805500,
  "falseY": -81923100,
  "xyUnits": 3048.0060960121928,
  "falseZ": -100000,
  "zUnits": 10000,
  "falseM": -100000,
  "mUnits": 10000
 },
 "singleFusedMapCache": true,
 "tileInfo": {
  "rows": 256,
  "cols": 256,
  "dpi": 96,
  "format": "MIXED",
  "compressionQuality": 75,
  "origin": {
   "x": -1.24805072830103E8,
   "y": 1.1173513948981E8
  },
  "spatialReference": {
   "wkid": 102739,
   "latestWkid": 2277,
   "xyTolerance": 0.003280833333333333,
   "zTolerance": 0.001,
   "mTolerance": 0.001,
   "falseX": -124805500,
   "falseY": -81923100,
   "xyUnits": 3048.0060960121928,
   "falseZ": -100000,
   "zUnits": 10000,
   "falseM": -100000,
   "mUnits": 10000
  },
  "lods": [
   {
    "level": 0,
    "resolution": 992983.674744192,
    "scale": 1.1439171933053093E9
   },
   {
    "level": 1,
    "resolution": 496491.837372096,
    "scale": 5.719585966526546E8
   },
   {
    "level": 2,
    "resolution": 248245.918686048,
    "scale": 2.859792983263273E8
   },
   {
    "level": 3,
    "resolution": 124122.959343024,
    "scale": 1.4298964916316366E8
   },
   {
    "level": 4,
    "resolution": 62061.479671512,
    "scale": 7.149482458158183E7
   },
   {
    "level": 5,
    "resolution": 31030.739835756,
    "scale": 3.5747412290790915E7
   },
   {
    "level": 6,
    "resolution": 15515.369917878,
    "scale": 1.7873706145395458E7
   },
   {
    "level": 7,
    "resolution": 7757.684958939,
    "scale": 8936853.072697729
   },
   {
    "level": 8,
    "resolution": 3878.8424794695,
    "scale": 4468426.536348864
   },
   {
    "level": 9,
    "resolution": 1939.42123973475,
    "scale": 2234213.268174432
   },
   {
    "level": 10,
    "resolution": 969.710619867375,
    "scale": 1117106.634087216
   },
   {
    "level": 11,
    "resolution": 484.8553099336875,
    "scale": 558553.317043608
   },
   {
    "level": 12,
    "resolution": 242.42765496684376,
    "scale": 279276.658521804
   },
   {
    "level": 13,
    "resolution": 121.21382748342188,
    "scale": 139638.329260902
   },
   {
    "level": 14,
    "resolution": 60.60691374171094,
    "scale": 69819.164630451
   },
   {
    "level": 15,
    "resolution": 30.30345687085547,
    "scale": 34909.5823152255
   },
   {
    "level": 16,
    "resolution": 15.151728435427735,
    "scale": 17454.79115761275
   },
   {
    "level": 17,
    "resolution": 7.5758642177138675,
    "scale": 8727.395578806376
   },
   {
    "level": 18,
    "resolution": 3.7879321088569338,
    "scale": 4363.697789403188
   },
   {
    "level": 19,
    "resolution": 1.8939660544284669,
    "scale": 2181.848894701594
   },
   {
    "level": 20,
    "resolution": 0.9469830272142334,
    "scale": 1090.924447350797
   },
   {
    "level": 21,
    "resolution": 0.4734915136071167,
    "scale": 545.4622236753985
   },
   {
    "level": 22,
    "resolution": 0.23674575680355836,
    "scale": 272.73111183769925
   },
   {
    "level": 23,
    "resolution": 0.11837287840177918,
    "scale": 136.36555591884962
   }
  ]
 },
 "storageInfo": {
  "storageFormat": "esriMapCacheStorageModeCompactV2",
  "packetSize": 128
 },
 "initialExtent": {
  "xmin": 3416857.482528321,
  "ymin": 1.0102819419763915E7,
  "xmax": 3727038.146590837,
  "ymax": 1.0346851331985623E7,
  "spatialReference": {
   "wkid": 102739,
   "latestWkid": 2277,
   "xyTolerance": 0.003280833333333333,
   "zTolerance": 0.001,
   "mTolerance": 0.001,
   "falseX": -124805500,
   "falseY": -81923100,
   "xyUnits": 3048.0060960121928,
   "falseZ": -100000,
   "zUnits": 10000,
   "falseM": -100000,
   "mUnits": 10000
  }
 },
 "fullExtent": {
  "xmin": 3469752.000000103,
  "ymin": 1.0106184250000011E7,
  "xmax": 3638712.0000001085,
  "ymax": 1.0343784000000022E7,
  "spatialReference": {
   "wkid": 102739,
   "latestWkid": 2277,
   "xyTolerance": 0.003280833333333333,
   "zTolerance": 0.001,
   "mTolerance": 0.001,
   "falseX": -124805500,
   "falseY": -81923100,
   "xyUnits": 3048.0060960121928,
   "falseZ": -100000,
   "zUnits": 10000,
   "falseM": -100000,
   "mUnits": 10000
  }
 },
 "datesInUnknownTimezone": false,
 "minScale": 1.1439171933053093E9,
 "maxScale": 136.36555591884962,
 "maxLOD": 3,
 "units": "esriFeet",
 "supportedImageFormatTypes": "PNG32,PNG24,PNG,JPG,DIB,TIFF,EMF,PS,PDF,GIF,SVG,SVGZ,BMP",
 "documentInfo": {
  "Title": "2025_Aerials_NAD83_from_SIDs",
  "Author": "",
  "Comments": "",
  "Subject": "",
  "Category": "",
  "AntialiasingMode": "None",
  "TextAntialiasingMode": "Force",
  "Version": "2.9.0",
  "Keywords": ""
 },
 "supportsQueryDomains": true,
 "capabilities": "Map,Query,Data",
 "supportedQueryFormats": "JSON, geoJSON, PBF",
 "exportTilesAllowed": false,
 "referenceScale": 0.0,
 "supportsDatumTransformation": true,
 "archivingInfo": {
  "supportsHistoricMoment": false
 },
 "supportsClipping": true,
 "supportsSpatialFilter": true,
 "supportsTimeRelation": true,
 "supportsQueryDataElements": true,
 "maxRecordCount": 2000,
 "maxImageHeight": 4096,
 "maxImageWidth": 4096,
 "supportedExtensions": "",
 "resampling": false
}
