{
 "currentVersion": 10.91,
 "cimVersion": "2.9.0",
 "serviceDescription": "",
 "mapName": "1953_Imagery",
 "description": "",
 "copyrightText": "",
 "supportsDynamicLayers": true,
 "layers": [
  {
   "id": 0,
   "name": "1953_Imagery",
   "parentLayerId": -1,
   "defaultVisibility": true,
   "subLayerIds": null,
   "minScale": 0,
   "maxScale": 0,
   "type": "Raster Layer",
   "supportsDynamicLegends": true
  }
 ],
 "tables": [],
 "spatialReference": {
  "wkid": 102739,
  "latestWkid": 2277,
  "xyTolerance": 0.003280833333333333,
  "zTolerance": 0.001,
  "mTolerance": 0.001,
  "falseX": -124805500,
  "falseY": -81923100,
  "xyUnits": 3.543294248495988E7,
  "falseZ": -100000,
  "zUnits": 10000,
  "falseM": -100000,
  "mUnits": 10000
 },
 "singleFusedMapCache": true,
 "tileInfo": {
  "rows": 256,
  "cols": 256,
  "dpi": 96,
  "format": "Mixed",
  "compressionQuality": 75,
  "origin": {
   "x": -1.2480507283010253E8,
   "y": 1.1173513948980975E8
  },
  "spatialReference": {
   "wkid": 102739,
   "latestWkid": 2277,
   "xyTolerance": 0.003280833333333333,
   "zTolerance": 0.001,
   "mTolerance": 0.001,
   "falseX": -124805500,
   "falseY": -81923100,
   "xyUnits": 3.543294248495988E7,
   "falseZ": -100000,
   "zUnits": 10000,
   "falseM": -100000,
   "mUnits": 10000
  },
  "lods": [
   {
    "level": 0,
    "resolution": 992981.6887768427,
    "scale": 1.1439171933053093E9
   },
   {
    "level": 1,
    "resolution": 496490.84438842133,
    "scale": 5.719585966526546E8
   },
   {
    "level": 2,
    "resolution": 248245.42219421067,
    "scale": 2.859792983263273E8
   },
   {
    "level": 3,
    "resolution": 124122.71109710533,
    "scale": 1.4298964916316366E8
   },
   {
    "level": 4,
    "resolution": 62061.35554855267,
    "scale": 7.149482458158183E7
   },
   {
    "level": 5,
    "resolution": 31030.677774276333,
    "scale": 3.5747412290790915E7
   },
   {
    "level": 6,
    "resolution": 15515.338887138167,
    "scale": 1.7873706145395458E7
   },
   {
    "level": 7,
    "resolution": 7757.669443569083,
    "scale": 8936853.072697729
   },
   {
    "level": 8,
    "resolution": 3878.8347217845417,
    "scale": 4468426.536348864
   },
   {
    "level": 9,
    "resolution": 1939.4173608922708,
    "scale": 2234213.268174432
   },
   {
    "level": 10,
    "resolution": 969.7086804461354,
    "scale": 1117106.634087216
   },
   {
    "level": 11,
    "resolution": 484.8543402230677,
    "scale": 558553.317043608
   },
   {
    "level": 12,
    "resolution": 242.42717011153385,
    "scale": 279276.658521804
   },
   {
    "level": 13,
    "resolution": 121.21358505576693,
    "scale": 139638.329260902
   },
   {
    "level": 14,
    "resolution": 60.606792527883464,
    "scale": 69819.164630451
   },
   {
    "level": 15,
    "resolution": 30.303396263941732,
    "scale": 34909.5823152255
   },
   {
    "level": 16,
    "resolution": 15.151698131970866,
    "scale": 17454.79115761275
   },
   {
    "level": 17,
    "resolution": 7.575849065985433,
    "scale": 8727.395578806376
   },
   {
    "level": 18,
    "resolution": 3.7879245329927165,
    "scale": 4363.697789403188
   }
  ]
 },
 "storageInfo": {
  "storageFormat": "esriMapCacheStorageModeCompactV2",
  "packetSize": 128
 },
 "initialExtent": {
  "xmin": 3541263.559185442,
  "ymin": 1.0203767647445802E7,
  "xmax": 3553443.9031033455,
  "ymax": 1.0221548841719031E7,
  "spatialReference": {
   "wkid": 102739,
   "latestWkid": 2277,
   "xyTolerance": 0.003280833333333333,
   "zTolerance": 0.001,
   "mTolerance": 0.001,
   "falseX": -124805500,
   "falseY": -81923100,
   "xyUnits": 3.543294248495988E7,
   "falseZ": -100000,
   "zUnits": 10000,
   "falseM": -100000,
   "mUnits": 10000
  }
 },
 "fullExtent": {
  "xmin": 3537829.512142095,
  "ymin": 1.0204021777866328E7,
  "xmax": 3555868.8099977127,
  "ymax": 1.0221348247342415E7,
  "spatialReference": {
   "wkid": 102739,
   "latestWkid": 2277,
   "xyTolerance": 0.003280833333333333,
   "zTolerance": 0.001,
   "mTolerance": 0.001,
   "falseX": -124805500,
   "falseY": -81923100,
   "xyUnits": 3.543294248495988E7,
   "falseZ": -100000,
   "zUnits": 10000,
   "falseM": -100000,
   "mUnits": 10000
  }
 },
 "datesInUnknownTimezone": false,
 "minScale": 69819.164630451,
 "maxScale": 4363.697789403188,
 "minLOD": 14,
 "maxLOD": 18,
 "units": "esriFeet",
 "supportedImageFormatTypes": "PNG32,PNG24,PNG,JPG,DIB,TIFF,EMF,PS,PDF,GIF,SVG,SVGZ,BMP",
 "documentInfo": {
  "Title": "1953_Imagery",
  "Author": "",
  "Comments": "",
  "Subject": "1953 imagery of College Station",
  "Category": "",
  "AntialiasingMode": "None",
  "TextAntialiasingMode": "Force",
  "Version": "2.9.0",
  "Keywords": ""
 },
 "supportsQueryDomains": true,
 "capabilities": "Map,Query,Data",
 "supportedQueryFormats": "JSON, geoJSON, PBF",
 "exportTilesAllowed": false,
 "referenceScale": 0.0,
 "datumTransformations": [
  {
   "geoTransforms": [
    {
     "wkid": 108001,
     "latestWkid": 1241,
     "transformForward": true,
     "name": "NAD_1927_To_NAD_1983_NADCON"
    }
   ]
  },
  {
   "geoTransforms": [
    {
     "wkid": 108001,
     "latestWkid": 1241,
     "transformForward": false,
     "name": "NAD_1927_To_NAD_1983_NADCON"
    }
   ]
  }
 ],
 "supportsDatumTransformation": true,
 "floorAwareMapProperties": {
  "defaultFloorFilterSettings": {
   "isEnabled": true
  }
 },
 "archivingInfo": {
  "supportsHistoricMoment": false
 },
 "supportsClipping": true,
 "supportsSpatialFilter": true,
 "supportsTimeRelation": true,
 "supportsQueryDataElements": true,
 "maxRecordCount": 2000,
 "maxImageHeight": 4096,
 "maxImageWidth": 4096,
 "supportedExtensions": ""
}
